BEGIN:VCALENDAR
VERSION:2.0
PRODID:-//Vrienden van de Oude Kerk Borne - ECPv6.15.20//NONSGML v1.0//EN
CALSCALE:GREGORIAN
METHOD:PUBLISH
X-WR-CALNAME:Vrienden van de Oude Kerk Borne
X-ORIGINAL-URL:https://vriendenokborne.nl
X-WR-CALDESC:Evenementen voor Vrienden van de Oude Kerk Borne
REFRESH-INTERVAL;VALUE=DURATION:PT1H
X-Robots-Tag:noindex
X-PUBLISHED-TTL:PT1H
BEGIN:VTIMEZONE
TZID:Europe/Amsterdam
BEGIN:DAYLIGHT
TZOFFSETFROM:+0100
TZOFFSETTO:+0200
TZNAME:CEST
DTSTART:20250330T010000
END:DAYLIGHT
BEGIN:STANDARD
TZOFFSETFROM:+0200
TZOFFSETTO:+0100
TZNAME:CET
DTSTART:20251026T010000
END:STANDARD
BEGIN:DAYLIGHT
TZOFFSETFROM:+0100
TZOFFSETTO:+0200
TZNAME:CEST
DTSTART:20260329T010000
END:DAYLIGHT
BEGIN:STANDARD
TZOFFSETFROM:+0200
TZOFFSETTO:+0100
TZNAME:CET
DTSTART:20261025T010000
END:STANDARD
BEGIN:DAYLIGHT
TZOFFSETFROM:+0100
TZOFFSETTO:+0200
TZNAME:CEST
DTSTART:20270328T010000
END:DAYLIGHT
BEGIN:STANDARD
TZOFFSETFROM:+0200
TZOFFSETTO:+0100
TZNAME:CET
DTSTART:20271031T010000
END:STANDARD
END:VTIMEZONE
BEGIN:VEVENT
DTSTART;TZID=Europe/Amsterdam:20260410T193000
DTEND;TZID=Europe/Amsterdam:20260410T193000
DTSTAMP:20260419T171008
CREATED:20251127T103712Z
LAST-MODIFIED:20260316T144602Z
UID:1522-1775849400-1775849400@vriendenokborne.nl
SUMMARY:Vocalgroep Choral
DESCRIPTION:Dit programma gaat over de dagboeken en het leven van Etty Hillesum. Haar leven werd gekleurd door haar onstuimige en soms grillige karakter\, haar Joodse afkomst en de Tweede Wereldoorlog. Etty beschrijft een grote persoonlijke innerlijke ontwikkeling. Ze zoekt naar liefde\, naar verbinding met zichzelf en anderen\, de dingen achter de dingen\, naar God. Haar dagboeken tonen een levenskunstenares die onder moeilijke omstandigheden steeds meer in staat is positiviteit te benadrukken en zichzelf en haar eigen lot te accepteren. Ze ziet zichzelf niet als slachtoffer\, overgeleverd aan de machten en krachten die inbeukten op haar bestaan. Haar oproep is om\, onder welke omstandigheid dan ook\, de antwoorden in jezelf te zoeken en in jezelf de dingen te verbeteren. Deze levenskunst\, inspiratie en kracht wil Choral in haar programma vormgeven. \nHet leven van Etty Hillesum \nOp vrijdagavond 10 april 2026\, aanvang 19.30 uur\, organiseert de Stichting Vrienden van de Oude Kerk Borne samen met de vocalgroep Choral een voorstelling over het leven van Etty Hillesum. \nDit jaar is het 81 jaar geleden dat de wereld bevrijd werd van de brute overheersing door Nazi-Duitsland en Japan. Maar anno 2026 lijkt het erop dat we opnieuw geconfronteerd worden met een orde waarin niet afspraken en samenwerking gelden\, maar het recht van de sterkste. Op meerdere plaatsen in de wereld is een oorlog gaande. Denk alleen al aan Oekraïne\, Gaza\, Iran\, Libanon\, Oeganda. De vanzelfsprekendheid van de veiligheidsparaplu die de Verenigde Staten na de Tweede Wereldoorlog bood\, staat sinds het aantreden van de regering Trump ter discussie. \nNa decennia van vrede en veiligheid heersen er weer gevoelens van onzekerheid en onveiligheid. \nBorne werd op dinsdag 3 april 1945 bevrijd door de Britse 130e Infanterie Brigade\, in het bijzonder het 4e Dorset regiment\, ondersteund door de Nottinghamshire Sherwood Rangers Yeomanry. Na korte gevechten was het dorp ’s avonds in geallieerde handen. De bezetting en Jodenvervolging lieten diepe sporen na\, met 133 weggevoerde inwoners en diverse monumenten die herinneren aan deze tijd. Om deze herinnering ook dit jaar onder de aandacht te brengen organiseert de Stichting Vrienden Oude Kerk te Borne samen met de vocalgroep Choral een voorstelling over haar leven. \nEtty Hillesum\, een joodse vrouw\, heeft velen geïnspireerd met de door haar nagelaten dagboeken en brieven. Haar leven wordt gekleurd door haar onstuimige en soms grillige karakter\, haar joodse afkomst en de Tweede Wereldoorlog. Etty beschrijft in haar werk een grote persoonlijke innerlijke ontwikkeling. Ze zoekt naar liefde\, naar verbinding met zichzelf en anderen\, naar God. \n  \n  \nBestel hier uw kaarten via Kulturhus Borne.\nEn natuurlijk kunt u ook kaarten direct voor aanvang bij de ingang van de Oude Kerk kopen. \nnog meer informatie vindt u hier \n 
URL:https://vriendenokborne.nl/activiteit/vocalgroep-choral/
LOCATION:Oude Kerk\, Oude Kerkstraat 2\, Borne\, 7622EK
CATEGORIES:concert
ATTACH;FMTTYPE=image/png:https://vriendenokborne.nl/wp-content/uploads/2025/11/Etty.png
END:VEVENT
BEGIN:VEVENT
DTSTART;TZID=Europe/Amsterdam:20260411T123000
DTEND;TZID=Europe/Amsterdam:20260411T173000
DTSTAMP:20260419T171008
CREATED:20260224T110228Z
LAST-MODIFIED:20260410T210408Z
UID:1665-1775910600-1775928600@vriendenokborne.nl
SUMMARY:Leerlingen Bram van der Beek - optredens gaan niet door
DESCRIPTION:Door persoonlijke omstandigheden gaan de optredens NIET DOOR.\nZangleerlingen van Bram van der Beek treden op.\nEen middag vol zang\, passie en verrassingen! \nLaat je meenemen op een muzikale reis tijdens bijzondere concertjes waarin zangtalenten van alle leeftijden optreden. Van (jonge) beginners tot meer ervaren vocalisten: stuk voor stuk delen zij hun liefde voor muziek met het publiek. \nWat deze middag extra bijzonder maakt\, is de rijke variatie aan stemmen. Elke stem heeft een eigen kleur\, karakter en verhaal – en juist die verschillen maken het geheel zo ontroerend en puur. Van kwetsbaar en ingetogen tot krachtig en uitbundig: samen zorgen ze voor een onvergetelijke beleving. Al deze amateurvocalisten komen uit de zangpraktijk van Bram van der Beek woonachtig in Borne. \nVerwacht een sprankelende mix van klassiek\, musical\, chansons en alles daartussenin. \nDeze middag draait om het delen van muziek\, het plezier van samen zingen. Het durven laten horen van je eigen stem en ervaren hoe leuk zingen voor iedereen is ongeacht je muzikale achtergrond\, leeftijd of niveau. Deze warme en inspirerende concertjes voor een ieder die van zingen houdt vinden plaats in De Oude Kerk van Borne op 11 april en 30 mei. \nEr zijn 5 concertjes van steeds 3 kwartier steeds met andere zangers beginnend om \n12.30 / 13.30 / 14.30 / 15.30 en 16.30 (jullie mogen ze natuurlijk allemaal beluisteren!) \nDe concertjes zijn gratis toegankelijk! Er zal een collecte zijn waarvan de opbrengst in zijn geheel naar de Stichting Vrienden Oude Kerk Borne gaat. We gaan dus niet alleen voor een heerlijke middag vol met muziek maar ook voor een grote opbrengst voor de Stichting! \nKom allemaal. Jullie zijn van harte welkom! \nMede namens alle zangers die gaan zingen voor jullie. \nBram van der Beek
URL:https://vriendenokborne.nl/activiteit/leerlingen-bram-van-der-beek/
LOCATION:Oude Kerk\, Oude Kerkstraat 2\, Borne\, 7622EK
CATEGORIES:concert
END:VEVENT
BEGIN:VEVENT
DTSTART;TZID=Europe/Amsterdam:20260412T153000
DTEND;TZID=Europe/Amsterdam:20260412T153000
DTSTAMP:20260419T171008
CREATED:20260330T144310Z
LAST-MODIFIED:20260330T144310Z
UID:1724-1776007800-1776007800@vriendenokborne.nl
SUMMARY:Concert Projectkoor Muziekweekend
DESCRIPTION:Concert Projectkoor – Oude Kerk Borne – 12 april 2026\naanvang: 15.30 uur\nToegang vrij\nProgramma:\nDie Ehre Gottes aus der Natur\nKyrie (“Mondscheinsonate”)\nElegischer Gesang\nAve Verum Corpus (W.A. Mozart)\nOpferlied\nMeeresstille und glückliche Fahrt \nUitgebreide informatie vindt u hier
URL:https://vriendenokborne.nl/activiteit/concert-projectkoor-muziekweekend/
LOCATION:Oude Kerk\, Oude Kerkstraat 2\, Borne\, 7622EK
END:VEVENT
BEGIN:VEVENT
DTSTART;TZID=Europe/Amsterdam:20260419T120000
DTEND;TZID=Europe/Amsterdam:20260419T170000
DTSTAMP:20260419T171008
CREATED:20260310T140629Z
LAST-MODIFIED:20260416T100224Z
UID:1690-1776600000-1776618000@vriendenokborne.nl
SUMMARY:Beste van Borne
DESCRIPTION:Programma Het Beste van Borne: \n13.30 – 14.05 uur     Jos en Yvonne Beunders \n14.10 – 14.45 uur      Damessimo \n15.30 – 16.05 uur     Twents Fluitensemble
URL:https://vriendenokborne.nl/activiteit/beste-van-borne/
LOCATION:Oude Kerk\, Oude Kerkstraat 2\, Borne\, 7622EK
CATEGORIES:concert
END:VEVENT
BEGIN:VEVENT
DTSTART;TZID=Europe/Amsterdam:20260517T140000
DTEND;TZID=Europe/Amsterdam:20260517T160000
DTSTAMP:20260419T171008
CREATED:20251127T103935Z
LAST-MODIFIED:20260224T110639Z
UID:1526-1779026400-1779033600@vriendenokborne.nl
SUMMARY:Expositie Anneke Copier
DESCRIPTION:Expositie Hemelvaart / Pinksteren
URL:https://vriendenokborne.nl/activiteit/hemelvaart-pinksteren-2/
LOCATION:Oude Kerk\, Oude Kerkstraat 2\, Borne\, 7622EK
CATEGORIES:expositie
END:VEVENT
BEGIN:VEVENT
DTSTART;TZID=Europe/Amsterdam:20260524T140000
DTEND;TZID=Europe/Amsterdam:20260524T160000
DTSTAMP:20260419T171008
CREATED:20251127T104038Z
LAST-MODIFIED:20260224T110729Z
UID:1528-1779631200-1779638400@vriendenokborne.nl
SUMMARY:Expositie Anneke Copier
DESCRIPTION:Hemelvaart / Pinksteren
URL:https://vriendenokborne.nl/activiteit/hemelvaart-pinksteren-3/
LOCATION:Oude Kerk\, Oude Kerkstraat 2\, Borne\, 7622EK
CATEGORIES:expositie
END:VEVENT
BEGIN:VEVENT
DTSTART;TZID=Europe/Amsterdam:20260530T123000
DTEND;TZID=Europe/Amsterdam:20260530T173000
DTSTAMP:20260419T171008
CREATED:20260224T110421Z
LAST-MODIFIED:20260401T115653Z
UID:1667-1780144200-1780162200@vriendenokborne.nl
SUMMARY:Leerlingen Bram van der Beek
DESCRIPTION:Zangleerlingen van Bram van der Beek treden op.\nEen middag vol zang\, passie en verrassingen! \nLaat je meenemen op een muzikale reis tijdens bijzondere concertjes waarin zangtalenten van alle leeftijden optreden. Van (jonge) beginners tot meer ervaren vocalisten: stuk voor stuk delen zij hun liefde voor muziek met het publiek. \nWat deze middag extra bijzonder maakt\, is de rijke variatie aan stemmen. Elke stem heeft een eigen kleur\, karakter en verhaal – en juist die verschillen maken het geheel zo ontroerend en puur. Van kwetsbaar en ingetogen tot krachtig en uitbundig: samen zorgen ze voor een onvergetelijke beleving. Al deze amateurvocalisten komen uit de zangpraktijk van Bram van der Beek woonachtig in Borne. \nVerwacht een sprankelende mix van klassiek\, musical\, chansons en alles daartussenin. \nDeze middag draait om het delen van muziek\, het plezier van samen zingen. Het durven laten horen van je eigen stem en ervaren hoe leuk zingen voor iedereen is ongeacht je muzikale achtergrond\, leeftijd of niveau. Deze warme en inspirerende concertjes voor een ieder die van zingen houdt vinden plaats in De Oude Kerk van Borne op 11 april en 30 mei. \nEr zijn 5 concertjes van steeds 3 kwartier steeds met andere zangers beginnend om \n12.30 / 13.30 / 14.30 / 15.30 en 16.30 (jullie mogen ze natuurlijk allemaal beluisteren!) \nDe concertjes zijn gratis toegankelijk! Er zal een collecte zijn waarvan de opbrengst in zijn geheel naar de Stichting Vrienden Oude Kerk Borne gaat. We gaan dus niet alleen voor een heerlijke middag vol met muziek maar ook voor een grote opbrengst voor de Stichting! \nKom allemaal. Jullie zijn van harte welkom! \nMede namens alle zangers die gaan zingen voor jullie. \nBram van der Beek
URL:https://vriendenokborne.nl/activiteit/leerlingen-bram-van-der-beek-2/
LOCATION:Oude Kerk\, Oude Kerkstraat 2\, Borne\, 7622EK
CATEGORIES:concert
END:VEVENT
BEGIN:VEVENT
DTSTART;TZID=Europe/Amsterdam:20260531T140000
DTEND;TZID=Europe/Amsterdam:20260531T160000
DTSTAMP:20260419T171008
CREATED:20260310T140940Z
LAST-MODIFIED:20260310T141029Z
UID:1692-1780236000-1780243200@vriendenokborne.nl
SUMMARY:Expositie Anneke Copier
DESCRIPTION:Hemelvaart / Pinksteren
URL:https://vriendenokborne.nl/activiteit/expositie-anneke-copier/
LOCATION:Oude Kerk\, Oude Kerkstraat 2\, Borne\, 7622EK
CATEGORIES:expositie
END:VEVENT
BEGIN:VEVENT
DTSTART;TZID=Europe/Amsterdam:20260607T153000
DTEND;TZID=Europe/Amsterdam:20260607T153000
DTSTAMP:20260419T171008
CREATED:20251127T104146Z
LAST-MODIFIED:20260116T104457Z
UID:1530-1780846200-1780846200@vriendenokborne.nl
SUMMARY:Concert Kwartens
DESCRIPTION:Concert: Madrigal Moments
URL:https://vriendenokborne.nl/activiteit/concert-kwartens-2/
LOCATION:Oude Kerk\, Oude Kerkstraat 2\, Borne\, 7622EK
CATEGORIES:concert
END:VEVENT
BEGIN:VEVENT
DTSTART;TZID=Europe/Amsterdam:20260614T140000
DTEND;TZID=Europe/Amsterdam:20260614T160000
DTSTAMP:20260419T171008
CREATED:20260310T141923Z
LAST-MODIFIED:20260311T075047Z
UID:1696-1781445600-1781452800@vriendenokborne.nl
SUMMARY:Expositie Carel Harberink
DESCRIPTION:Expositie van schilderijen
URL:https://vriendenokborne.nl/activiteit/expositie-dhr-harberink/
LOCATION:Oude Kerk\, Oude Kerkstraat 2\, Borne\, 7622EK
CATEGORIES:expositie
END:VEVENT
BEGIN:VEVENT
DTSTART;TZID=Europe/Amsterdam:20260628T140000
DTEND;TZID=Europe/Amsterdam:20260628T160000
DTSTAMP:20260419T171008
CREATED:20260310T142058Z
LAST-MODIFIED:20260311T075112Z
UID:1699-1782655200-1782662400@vriendenokborne.nl
SUMMARY:Expositie Carel Harberink
DESCRIPTION:Expositie van schilderijen
URL:https://vriendenokborne.nl/activiteit/expositie-dhr-harberink-2/
LOCATION:Oude Kerk\, Oude Kerkstraat 2\, Borne\, 7622EK
CATEGORIES:expositie
END:VEVENT
BEGIN:VEVENT
DTSTART;TZID=Europe/Amsterdam:20260705T140000
DTEND;TZID=Europe/Amsterdam:20260705T160000
DTSTAMP:20260419T171008
CREATED:20260310T142204Z
LAST-MODIFIED:20260311T075218Z
UID:1702-1783260000-1783267200@vriendenokborne.nl
SUMMARY:Expositie Carel Harberink
DESCRIPTION:Expositie van schilderijen
URL:https://vriendenokborne.nl/activiteit/expositie-dhr-harberink-3/
LOCATION:Oude Kerk\, Oude Kerkstraat 2\, Borne\, 7622EK
CATEGORIES:expositie
END:VEVENT
BEGIN:VEVENT
DTSTART;TZID=Europe/Amsterdam:20260712T140000
DTEND;TZID=Europe/Amsterdam:20260712T160000
DTSTAMP:20260419T171008
CREATED:20260311T075337Z
LAST-MODIFIED:20260311T075405Z
UID:1712-1783864800-1783872000@vriendenokborne.nl
SUMMARY:Expositie Carel Harberink
DESCRIPTION:Expositie van schilderijen
URL:https://vriendenokborne.nl/activiteit/expositie-carel-harberink/
LOCATION:Oude Kerk\, Oude Kerkstraat 2\, Borne\, 7622EK
CATEGORIES:expositie
END:VEVENT
BEGIN:VEVENT
DTSTART;TZID=Europe/Amsterdam:20260719T140000
DTEND;TZID=Europe/Amsterdam:20260719T160000
DTSTAMP:20260419T171008
CREATED:20260310T142250Z
LAST-MODIFIED:20260311T075143Z
UID:1704-1784469600-1784476800@vriendenokborne.nl
SUMMARY:Expositie Carel Harberink
DESCRIPTION:Expositie van schilderijen
URL:https://vriendenokborne.nl/activiteit/expositie-dhr-harberink-4/
LOCATION:Oude Kerk\, Oude Kerkstraat 2\, Borne\, 7622EK
CATEGORIES:expositie
END:VEVENT
BEGIN:VEVENT
DTSTART;TZID=Europe/Amsterdam:20260802T153000
DTEND;TZID=Europe/Amsterdam:20260802T153000
DTSTAMP:20260419T171008
CREATED:20260224T111010Z
LAST-MODIFIED:20260224T111409Z
UID:1671-1785684600-1785684600@vriendenokborne.nl
SUMMARY:Orgelconcert Cor Ardesch
DESCRIPTION:
URL:https://vriendenokborne.nl/activiteit/orgelconcert-cor-ardesch/
LOCATION:Oude Kerk\, Oude Kerkstraat 2\, Borne\, 7622EK
CATEGORIES:concert
END:VEVENT
BEGIN:VEVENT
DTSTART;TZID=Europe/Amsterdam:20260913T140000
DTEND;TZID=Europe/Amsterdam:20260913T160000
DTSTAMP:20260419T171008
CREATED:20260116T104738Z
LAST-MODIFIED:20260116T104738Z
UID:1609-1789308000-1789315200@vriendenokborne.nl
SUMMARY:Expositie Yvonne Denekamp
DESCRIPTION:
URL:https://vriendenokborne.nl/activiteit/expositie-yvonne-denekamp/
LOCATION:Oude Kerk\, Oude Kerkstraat 2\, Borne\, 7622EK
CATEGORIES:expositie
END:VEVENT
BEGIN:VEVENT
DTSTART;TZID=Europe/Amsterdam:20260920T140000
DTEND;TZID=Europe/Amsterdam:20260920T160000
DTSTAMP:20260419T171008
CREATED:20260116T104858Z
LAST-MODIFIED:20260116T104858Z
UID:1611-1789912800-1789920000@vriendenokborne.nl
SUMMARY:Expositie Yvonne Denekamp
DESCRIPTION:Expositie
URL:https://vriendenokborne.nl/activiteit/expositie-yvonne-denekamp-2/
LOCATION:Oude Kerk\, Oude Kerkstraat 2\, Borne\, 7622EK
CATEGORIES:expositie
END:VEVENT
BEGIN:VEVENT
DTSTART;TZID=Europe/Amsterdam:20260920T153000
DTEND;TZID=Europe/Amsterdam:20260920T153000
DTSTAMP:20260419T171008
CREATED:20260122T112605Z
LAST-MODIFIED:20260122T112605Z
UID:1631-1789918200-1789918200@vriendenokborne.nl
SUMMARY:Orgelconcert
DESCRIPTION:Orgelconcert door Martin Mans
URL:https://vriendenokborne.nl/activiteit/orgelconcert/
LOCATION:Oude Kerk\, Oude Kerkstraat 2\, Borne\, 7622EK
CATEGORIES:concert
END:VEVENT
BEGIN:VEVENT
DTSTART;TZID=Europe/Amsterdam:20261004T140000
DTEND;TZID=Europe/Amsterdam:20261004T160000
DTSTAMP:20260419T171008
CREATED:20260116T104950Z
LAST-MODIFIED:20260116T104950Z
UID:1613-1791122400-1791129600@vriendenokborne.nl
SUMMARY:Expositie Yvonne Denekamp
DESCRIPTION:
URL:https://vriendenokborne.nl/activiteit/expositie-yvonne-denekamp-3/
LOCATION:Oude Kerk\, Oude Kerkstraat 2\, Borne\, 7622EK
CATEGORIES:expositie
END:VEVENT
BEGIN:VEVENT
DTSTART;TZID=Europe/Amsterdam:20261011T140000
DTEND;TZID=Europe/Amsterdam:20261011T160000
DTSTAMP:20260419T171008
CREATED:20260116T105022Z
LAST-MODIFIED:20260116T105022Z
UID:1615-1791727200-1791734400@vriendenokborne.nl
SUMMARY:Expositie Yvonne Denekamp
DESCRIPTION:
URL:https://vriendenokborne.nl/activiteit/expositie-yvonne-denekamp-4/
LOCATION:Oude Kerk\, Oude Kerkstraat 2\, Borne\, 7622EK
CATEGORIES:expositie
END:VEVENT
BEGIN:VEVENT
DTSTART;TZID=Europe/Amsterdam:20261018T140000
DTEND;TZID=Europe/Amsterdam:20261018T160000
DTSTAMP:20260419T171008
CREATED:20260116T105054Z
LAST-MODIFIED:20260116T105054Z
UID:1617-1792332000-1792339200@vriendenokborne.nl
SUMMARY:Expositie Yvonne Denekamp
DESCRIPTION:
URL:https://vriendenokborne.nl/activiteit/expositie-yvonne-denekamp-5/
LOCATION:Oude Kerk\, Oude Kerkstraat 2\, Borne\, 7622EK
CATEGORIES:expositie
END:VEVENT
BEGIN:VEVENT
DTSTART;TZID=Europe/Amsterdam:20261025T140000
DTEND;TZID=Europe/Amsterdam:20261025T160000
DTSTAMP:20260419T171008
CREATED:20260116T105129Z
LAST-MODIFIED:20260116T105129Z
UID:1619-1792936800-1792944000@vriendenokborne.nl
SUMMARY:Expositie Yvonne Denekamp
DESCRIPTION:
URL:https://vriendenokborne.nl/activiteit/expositie-yvonne-denekamp-6/
LOCATION:Oude Kerk\, Oude Kerkstraat 2\, Borne\, 7622EK
CATEGORIES:expositie
END:VEVENT
BEGIN:VEVENT
DTSTART;TZID=Europe/Amsterdam:20261115T153000
DTEND;TZID=Europe/Amsterdam:20261115T153000
DTSTAMP:20260419T171008
CREATED:20260224T111314Z
LAST-MODIFIED:20260224T111314Z
UID:1673-1794756600-1794756600@vriendenokborne.nl
SUMMARY:Orgelconcert Maarten Wilmink
DESCRIPTION:
URL:https://vriendenokborne.nl/activiteit/orgelconcert-maarten-wilmink/
LOCATION:Oude Kerk\, Oude Kerkstraat 2\, Borne\, 7622EK
CATEGORIES:concert
END:VEVENT
BEGIN:VEVENT
DTSTART;TZID=Europe/Amsterdam:20261220T153000
DTEND;TZID=Europe/Amsterdam:20261220T153000
DTSTAMP:20260419T171008
CREATED:20260116T105253Z
LAST-MODIFIED:20260116T105253Z
UID:1621-1797780600-1797780600@vriendenokborne.nl
SUMMARY:Kerstconcert
DESCRIPTION:Borns Kleinkoor
URL:https://vriendenokborne.nl/activiteit/kerstconcert/
LOCATION:Oude Kerk\, Oude Kerkstraat 2\, Borne\, 7622EK
CATEGORIES:concert
END:VEVENT
END:VCALENDAR